BEGIN:VCALENDAR
VERSION:2.0
PRODID:-//drrobertbess - ECPv6.15.20//NONSGML v1.0//EN
CALSCALE:GREGORIAN
METHOD:PUBLISH
X-ORIGINAL-URL:https://drrobertbess.com
X-WR-CALDESC:Events for drrobertbess
REFRESH-INTERVAL;VALUE=DURATION:PT1H
X-Robots-Tag:noindex
X-PUBLISHED-TTL:PT1H
BEGIN:VTIMEZONE
TZID:UTC
BEGIN:STANDARD
TZOFFSETFROM:+0000
TZOFFSETTO:+0000
TZNAME:UTC
DTSTART:20240101T000000
END:STANDARD
END:VTIMEZONE
BEGIN:VEVENT
DTSTART;TZID=UTC:20251204T123000
DTEND;TZID=UTC:20251204T130000
DTSTAMP:20260423T121608
CREATED:20251125T185526Z
LAST-MODIFIED:20251125T190837Z
UID:4045-1764851400-1764853200@drrobertbess.com
SUMMARY:Radio Broadcast
DESCRIPTION:Thursday\, Dec 4\, 12:30 AM – 1:00 PM\, KKVV 1060 AM Radio\, “The Gospel Airship”
URL:https://drrobertbess.com/event/radio-broadcast/
LOCATION:Las Vegas\, NV\, United States
ATTACH;FMTTYPE=image/jpeg:https://drrobertbess.com/wp-content/uploads/2025/11/PRESERVED-KINDLE-JPEG-scaled.jpg
END:VEVENT
BEGIN:VEVENT
DTSTART;TZID=UTC:20251205T084500
DTEND;TZID=UTC:20251205T110000
DTSTAMP:20260423T121608
CREATED:20251119T014355Z
LAST-MODIFIED:20251119T014355Z
UID:1857-1764924300-1764932400@drrobertbess.com
SUMMARY:KWM Bible Study – Faith in the Marketplace
DESCRIPTION:KWM Bible Study – Faith in the Marketplace
URL:https://drrobertbess.com/event/kwm-bible-study-faith-in-the-marketplace-3/
LOCATION:Las Vegas\, NV\, United States
ATTACH;FMTTYPE=image/jpeg:https://drrobertbess.com/wp-content/uploads/2025/11/581004775_825202306986616_2971443648691564286_n.jpg
END:VEVENT
BEGIN:VEVENT
DTSTART;TZID=UTC:20251211T123000
DTEND;TZID=UTC:20251211T130000
DTSTAMP:20260423T121608
CREATED:20251209T162907Z
LAST-MODIFIED:20251209T162907Z
UID:5350-1765456200-1765458000@drrobertbess.com
SUMMARY:Radio Broadcast
DESCRIPTION:Thursday\, Dec 11\, 12:30 AM – 1:00 PM\, KKVV 1060 AM Radio\, “The Gospel Airship”
URL:https://drrobertbess.com/event/radio-broadcast-2/
LOCATION:Las Vegas\, NV\, United States
ATTACH;FMTTYPE=image/jpeg:https://drrobertbess.com/wp-content/uploads/2025/11/PRESERVED-KINDLE-JPEG-scaled.jpg
END:VEVENT
BEGIN:VEVENT
DTSTART;TZID=UTC:20251212T084500
DTEND;TZID=UTC:20251212T110000
DTSTAMP:20260423T121608
CREATED:20251119T014555Z
LAST-MODIFIED:20251119T014555Z
UID:1860-1765529100-1765537200@drrobertbess.com
SUMMARY:KWM Bible Study – Faith in the Marketplace
DESCRIPTION:KWM Bible Study – Faith in the Marketplace
URL:https://drrobertbess.com/event/kwm-bible-study-faith-in-the-marketplace-4/
LOCATION:Las Vegas\, NV\, United States
ATTACH;FMTTYPE=image/jpeg:https://drrobertbess.com/wp-content/uploads/2025/11/581004775_825202306986616_2971443648691564286_n.jpg
END:VEVENT
BEGIN:VEVENT
DTSTART;TZID=UTC:20251219T084500
DTEND;TZID=UTC:20251219T110000
DTSTAMP:20260423T121608
CREATED:20251119T014601Z
LAST-MODIFIED:20251119T014601Z
UID:1859-1766133900-1766142000@drrobertbess.com
SUMMARY:KWM Bible Study – Faith in the Marketplace
DESCRIPTION:KWM Bible Study – Faith in the Marketplace
URL:https://drrobertbess.com/event/kwm-bible-study-faith-in-the-marketplace-5/
LOCATION:Las Vegas\, NV\, United States
ATTACH;FMTTYPE=image/jpeg:https://drrobertbess.com/wp-content/uploads/2025/11/581004775_825202306986616_2971443648691564286_n.jpg
END:VEVENT
END:VCALENDAR