BEGIN:VCALENDAR
VERSION:2.0
PRODID:-//drrobertbess - ECPv6.15.20//NONSGML v1.0//EN
CALSCALE:GREGORIAN
METHOD:PUBLISH
X-WR-CALNAME:drrobertbess
X-ORIGINAL-URL:https://drrobertbess.com
X-WR-CALDESC:Events for drrobertbess
REFRESH-INTERVAL;VALUE=DURATION:PT1H
X-Robots-Tag:noindex
X-PUBLISHED-TTL:PT1H
BEGIN:VTIMEZONE
TZID:UTC
BEGIN:STANDARD
TZOFFSETFROM:+0000
TZOFFSETTO:+0000
TZNAME:UTC
DTSTART:20240101T000000
END:STANDARD
END:VTIMEZONE
BEGIN:VEVENT
DTSTART;TZID=UTC:20251114T084500
DTEND;TZID=UTC:20251114T110000
DTSTAMP:20260423T135234
CREATED:20251119T014157Z
LAST-MODIFIED:20251119T014157Z
UID:1854-1763109900-1763118000@drrobertbess.com
SUMMARY:KWM Bible Study – Faith in the Marketplace
DESCRIPTION:KWM Bible Study – Faith in the Marketplace
URL:https://drrobertbess.com/event/kwm-bible-study-faith-in-the-marketplace-2/
LOCATION:Las Vegas\, NV\, United States
ATTACH;FMTTYPE=image/jpeg:https://drrobertbess.com/wp-content/uploads/2025/11/581004775_825202306986616_2971443648691564286_n.jpg
END:VEVENT
BEGIN:VEVENT
DTSTART;TZID=UTC:20251121T084500
DTEND;TZID=UTC:20251121T110000
DTSTAMP:20260423T135234
CREATED:20251118T190603Z
LAST-MODIFIED:20251119T014209Z
UID:1593-1763714700-1763722800@drrobertbess.com
SUMMARY:KWM Bible Study – Faith in the Marketplace
DESCRIPTION:KWM Bible Study – Faith in the Marketplace
URL:https://drrobertbess.com/event/kwm-bible-study-faith-in-the-marketplace/
LOCATION:Las Vegas\, NV\, United States
ATTACH;FMTTYPE=image/jpeg:https://drrobertbess.com/wp-content/uploads/2025/11/581004775_825202306986616_2971443648691564286_n.jpg
END:VEVENT
BEGIN:VEVENT
DTSTART;TZID=UTC:20251129T120000
DTEND;TZID=UTC:20251129T140000
DTSTAMP:20260423T135234
CREATED:20251119T174134Z
LAST-MODIFIED:20251209T161919Z
UID:2031-1764417600-1764424800@drrobertbess.com
SUMMARY:Book Launch Signing
DESCRIPTION:Book Launch Signing Saturday Nov 29th Sambalatte Summerlin 12noon till 2pm
URL:https://drrobertbess.com/event/book-launch-signing/
LOCATION:Las Vegas\, NV\, United States
ATTACH;FMTTYPE=image/jpeg:https://drrobertbess.com/wp-content/uploads/2025/11/PRESERVED-KINDLE-JPEG-scaled.jpg
END:VEVENT
END:VCALENDAR